Workbook
Name _ftn1: BE_materials!$Y$5
Name _ftnref1: BE_materials!$Y$2
Name _Ref221815476: BE_materials!$Y$2

Sheet Результат климатического проект
A1: Вариант 1 (вывоз щепы в полигоны) | U1: % добавки растительных отходов | V1: 45.049505
A2: Период кредитования | B2: 2023 | C2: 2024 | D2: 2025 | E2: 2026 | F2: 2027 | G2: 2028 | H2: 2029 | I2: 2030 | J2: 2031 | K2: 2032 | L2: 2033 | U2: Ежегодное количество производимых блоков,м3 | V2: 5871
A3: Выбросы ПГ, CO2-экв. | B3: ='Захоронение в полигоне (баз)'!C23 -> 177.82569 | C3: ='Захоронение в полигоне (баз)'!D23 -> 350.39584 | D3: ='Захоронение в полигоне (баз)'!E23 -> 517.86577 | E3: ='Захоронение в полигоне (баз)'!F23 -> 680.38621 | F3: ='Захоронение в полигоне (баз)'!G23 -> 838.10345 | G3: ='Захоронение в полигоне (баз)'!H23 -> 991.15944 | H3: ='Захоронение в полигоне (баз)'!I23 -> 1168.4702 | I3: ='Захоронение в полигоне (баз)'!J23 -> 1340.5407 | ... L3: ='Захоронение в полигоне (баз)'!M23 -> 1770.1301 | U3: Количество захороненных отходов, т | V3: ='Производство арболита (пр)'!B14 -> 1652.3536
A4: Захоронение C в полигоне, т CO2-экв. | B4: =$V$7*(1-$V$8)*$V$3*-44/12 -> -1363.1917 | C4: =$V$7*(1-$V$8)*$V$3*-44/12 -> -1363.1917 | D4: =$V$7*(1-$V$8)*$V$3*-44/12 -> -1363.1917 | E4: =$V$7*(1-$V$8)*$V$3*-44/12 -> -1363.1917 | F4: =$V$7*(1-$V$8)*$V$3*-44/12 -> -1363.1917 | G4: =$V$7*(1-$V$8)*$V$3*-44/12 -> -1363.1917 | H4: =$V$7*(1-$V$8)*$V$3*-44/12 -> -1363.1917 | I4: =$V$7*(1-$V$8)*$V$3*-44/12 -> -1363.1917 | ... L4: =$V$7*(1-$V$8)*$V$3*-44/12 -> -1363.1917 | U4: Плотность костры(средняя),кг/м3 | V4: 250
A5: Нетто выбросы, т CO2 экв. | B5: =B3+B4 -> -1185.366 | C5: =C3+C4 -> -1012.7959 | D5: =D3+D4 -> -845.32596 | E5: =E3+E4 -> -682.80552 | F5: =F3+F4 -> -525.08828 | G5: =G3+G4 -> -372.03229 | H5: =H3+H4 -> -194.7215 | I5: =I3+I4 -> -22.651035 | ... L5: =L3+L4 -> 406.93835 | U5: Сi- содержание углерода в биомассе культуры,кг С/кг сух.в-ва | V5: 0.5
U6: MCF (Поправочный коэффициент CH4 для анаэробного разложения в год помещения на свалку) | V6: 1
A7: Вариант 2 (мульчирование и сжигание на месте) | U7: DOC-способный к разложению органический углерод в год удаления на свалку,доля | V7: 0.5
A8: Период кредитования | B8: 2023 | C8: 2024 | D8: 2025 | E8: 2026 | F8: 2027 | G8: 2028 | H8: 2029 | I8: 2030 | J8: 2031 | K8: 2032 | L8: 2033 | U8: DOC-F, доля фактически разложившегося способного к разложению органического углерода | V8: 0.55
A9: Нетто выбросы, т CO2 экв. | B9: ='Мульчирование и сжигание (баз)'!B12 -> 2916.5147 | C9: ='Мульчирование и сжигание (баз)'!C12 -> 2135.7075 | D9: ='Мульчирование и сжигание (баз)'!D12 -> 2086.6264 | E9: ='Мульчирование и сжигание (баз)'!E12 -> 2039.0023 | F9: ='Мульчирование и сжигание (баз)'!F12 -> 1992.7921 | G9: ='Мульчирование и сжигание (баз)'!G12 -> 1947.9537 | H9: ='Мульчирование и сжигание (баз)'!H12 -> 1904.4464 | I9: ='Мульчирование и сжигание (баз)'!I12 -> 1862.2308 | ... L9: ='Мульчирование и сжигание (баз)'!L12 -> 1742.9557 | U9: (-k),константа скорости разложения | V9: -0.02
U10: F,доля CH4 в газе, образованном на свалках | V10: 0.5
A11: Период кредитования | B11: 2023 | C11: 2024 | D11: 2025 | E11: 2026 | F11: 2027 | G11: 2028 | H11: 2029 | I11: 2030 | J11: 2031 | K11: 2032 | L11: 2033
A12: Выбросы от производства газобетона, т CO2 экв. | B12: ='Производство газобетона (баз)'!$B$32 -> 2211.7489 | C12: ='Производство газобетона (баз)'!$B$32 -> 2211.7489 | D12: ='Производство газобетона (баз)'!$B$32 -> 2211.7489 | E12: ='Производство газобетона (баз)'!$B$32 -> 2211.7489 | F12: ='Производство газобетона (баз)'!$B$32 -> 2211.7489 | G12: ='Производство газобетона (баз)'!$B$32 -> 2211.7489 | H12: ='Производство газобетона (баз)'!$B$32 -> 2211.7489 | I12: ='Производство газобетона (баз)'!$B$32 -> 2211.7489 | ... L12: ='Производство газобетона (баз)'!$B$32 -> 2211.7489
A14: Период кредитования | B14: 2023 | C14: 2024 | D14: 2025 | E14: 2026 | F14: 2027 | G14: 2028 | H14: 2029 | I14: 2030 | J14: 2031 | K14: 2032 | L14: 2033
A15: Нетто выбросы от базовой линии (Захоронение щепы в полигоне), т CO2-экв. | B15: =B12+B5 -> 1026.3829 | C15: =C12+C5 -> 1198.953 | D15: =D12+D5 -> 1366.423 | E15: =E12+E5 -> 1528.9434 | F15: =F12+F5 -> 1686.6606 | G15: =G12+G5 -> 1839.7166 | H15: =H12+H5 -> 2017.0274 | I15: =I12+I5 -> 2189.0979 | ... L15: =L12+L5 -> 2618.6873
A16: Нетто выбросы от базовой линии (Мульчирование и сжигание), т CO2-экв. | B16: =B12+B9 -> 5128.2636 | C16: =C12+C9 -> 4347.4564 | D16: =D12+D9 -> 4298.3753 | E16: =E12+E9 -> 4250.7512 | F16: =F12+F9 -> 4204.541 | G16: =G12+G9 -> 4159.7026 | H16: =H12+H9 -> 4116.1953 | I16: =I12+I9 -> 4073.9797 | ... L16: =L12+L9 -> 3954.7046
A18: Период кредитования | B18: 2023 | C18: 2024 | D18: 2025 | E18: 2026 | F18: 2027 | G18: 2028 | H18: 2029 | I18: 2030 | J18: 2031 | K18: 2032 | L18: 2033
A19: Выбросы от проектной линии, т CO2-экв. | B19: ='Производство арболита (пр)'!$B$30 -> 1849.434 | C19: ='Производство арболита (пр)'!$B$30 -> 1849.434 | D19: ='Производство арболита (пр)'!$B$30 -> 1849.434 | E19: ='Производство арболита (пр)'!$B$30 -> 1849.434 | F19: ='Производство арболита (пр)'!$B$30 -> 1849.434 | G19: ='Производство арболита (пр)'!$B$30 -> 1849.434 | H19: ='Производство арболита (пр)'!$B$30 -> 1849.434 | I19: ='Производство арболита (пр)'!$B$30 -> 1849.434 | ... L19: ='Производство арболита (пр)'!$B$30 -> 1849.434
A20: Захороненный углерод в арболите, т CO2-экв. | B20: =$V$3*$V$5*-44/12 -> -3029.3149 | C20: =$V$3*$V$5*-44/12 -> -3029.3149 | D20: =$V$3*$V$5*-44/12 -> -3029.3149 | E20: =$V$3*$V$5*-44/12 -> -3029.3149 | F20: =$V$3*$V$5*-44/12 -> -3029.3149 | G20: =$V$3*$V$5*-44/12 -> -3029.3149 | H20: =$V$3*$V$5*-44/12 -> -3029.3149 | I20: =$V$3*$V$5*-44/12 -> -3029.3149 | ... L20: =$V$3*$V$5*-44/12 -> -3029.3149
A21: Нетто выбросы от проектной линии, т CO2-экв. | B21: =B19+B20 -> -1179.881 | C21: =C19+C20 -> -1179.881 | D21: =D19+D20 -> -1179.881 | E21: =E19+E20 -> -1179.881 | F21: =F19+F20 -> -1179.881 | G21: =G19+G20 -> -1179.881 | H21: =H19+H20 -> -1179.881 | I21: =I19+I20 -> -1179.881 | ... L21: =L19+L20 -> -1179.881
A24: Результат климатического проекта, т CO2-экв.
A25: Период кредитования | B25: 2023 | C25: 2024 | D25: 2025 | E25: 2026 | F25: 2027 | G25: 2028 | H25: 2029 | I25: 2030 | J25: 2031 | K25: 2032 | L25: 2033 | M25: Итого
A26: Вариант 1 (вывоз щепы в полигоны) | B26: =B21-B15 -> -2206.2638 | C26: =C21-C15 -> -2378.834 | D26: =D21-D15 -> -2546.3039 | E26: =E21-E15 -> -2708.8244 | F26: =F21-F15 -> -2866.5416 | G26: =G21-G15 -> -3019.5976 | H26: =H21-H15 -> -3196.9084 | I26: =I21-I15 -> -3368.9788 | ... L26: =L21-L15 -> -3798.5682 | M26: =SUM(B26:L26) -> -33296.02
A27: Вариант 2 (мульчирование и сжигание на месте) | B27: =B21-B16 -> -6308.1446 | C27: =C21-C16 -> -5527.3374 | D27: =D21-D16 -> -5478.2562 | E27: =E21-E16 -> -5430.6322 | F27: =F21-F16 -> -5384.4219 | G27: =G21-G16 -> -5339.5835 | H27: =H21-H16 -> -5296.0763 | I27: =I21-I16 -> -5253.8606 | ... L27: =L21-L16 -> -5134.5856 | M27: =SUM(B27:L27) -> -59538.949

Sheet Мульчирование и сжигание (баз)
A1: Годы кредитного периода | B1: Базовая линия | O1: Коэффициенты
B2: 2023 | C2: 2024 | D2: 2025 | E2: 2026 | F2: 2027 | G2: 2028 | H2: 2029 | I2: 2030 | J2: 2031 | K2: 2032 | L2: 2033 | P2: Средняя плотность древесных отходов (в кг/м³) | Q2: 285
A3: Масса образованных порубочных остатков для вывоза, тонны | B3: 1652.3536 | C3: 1652.3536 | D3: 1652.3536 | E3: 1652.3536 | F3: 1652.3536 | G3: 1652.3536 | H3: 1652.3536 | I3: 1652.3536 | J3: 1652.3536 | K3: 1652.3536 | L3: 1652.3536 | O3: IPCC, 2019.TABLE 12.2 | P3: C conversion factor cf (per air dry volume) [Mg C / m3] | Q3: 0.229
A4: Объём порубочных остатков,всего, м3 | B4: =B3*1000/$Q$2 -> 5797.732 | C4: =C3*1000/$Q$2 -> 5797.732 | D4: =D3*1000/$Q$2 -> 5797.732 | E4: =E3*1000/$Q$2 -> 5797.732 | F4: =F3*1000/$Q$2 -> 5797.732 | G4: =G3*1000/$Q$2 -> 5797.732 | H4: =H3*1000/$Q$2 -> 5797.732 | I4: =I3*1000/$Q$2 -> 5797.732 | ... L4: =L3*1000/$Q$2 -> 5797.732
A5: Масса порубочных остатков,которые сжигаются (50%), тонн | B5: =$B$3/2 -> 826.1768 | C5: =$B$3/2 -> 826.1768 | D5: =$B$3/2 -> 826.1768 | E5: =$B$3/2 -> 826.1768 | F5: =$B$3/2 -> 826.1768 | G5: =$B$3/2 -> 826.1768 | H5: =$B$3/2 -> 826.1768 | I5: =$B$3/2 -> 826.1768 | ... L5: =$B$3/2 -> 826.1768 | O5: МГЭИК,2006.Том 4,глава 2 ,ТАБЛИЦА 2.5 | P5: коэффициент выбросов GefCO2, г/кг сжигаемого сухого вещества ​ | Q5: 1569
A6: Объём порубочных остатков,которые остаются на местах заготовки (50%), м3 | B6: =$B$4/2 -> 2898.866 | C6: =$B$4/2 -> 2898.866 | D6: =$B$4/2 -> 2898.866 | E6: =$B$4/2 -> 2898.866 | F6: =$B$4/2 -> 2898.866 | G6: =$B$4/2 -> 2898.866 | H6: =$B$4/2 -> 2898.866 | I6: =$B$4/2 -> 2898.866 | ... L6: =$B$4/2 -> 2898.866 | O6: МГЭИК,2006.Том 4,глава 2 ,ТАБЛИЦА 2.5 | P6: коэффициент выбросов GefCH4, г/кг сжигаемого сухого вещества ​ | Q6: 4.7
A7: Поступление С в пул порубочных остатков, тонн С | B7: =B6*$Q$3 -> 663.84031 | C7: =C6*$Q$3 -> 663.84031 | D7: =D6*$Q$3 -> 663.84031 | E7: =E6*$Q$3 -> 663.84031 | F7: =F6*$Q$3 -> 663.84031 | G7: =G6*$Q$3 -> 663.84031 | H7: =H6*$Q$3 -> 663.84031 | I7: =I6*$Q$3 -> 663.84031 | ... L7: =L6*$Q$3 -> 663.84031 | O7: МГЭИК,2006. Том 4,глава 2 ,ТАБЛИЦА 2.5 | P7: коэффициент выбросов GefN2O, г/кг сжигаемого сухого вещества ​ | Q7: 0.26
A8: Запас С в пуле порубочных остатков, тонн С | B8: =$Q$11*0+B7 -> 663.84031 | C8: =$Q$11*B8+C7 -> 1307.973 | D8: =$Q$11*C8+D7 -> 1932.9832 | E8: =$Q$11*D8+E7 -> 2539.4386 | F8: =$Q$11*E8+F7 -> 3127.8899 | G8: =$Q$11*F8+G7 -> 3698.8718 | H8: =$Q$11*G8+H7 -> 4252.9028 | I8: =$Q$11*H8+I7 -> 4790.4861 | J8: =$Q$11*I8+J7 -> 5312.1101 | ... L8: =$Q$11*K8+L7 -> 6309.361 | O8: МГЭИК,2006 .Том 4,глава 2 ,ТАБЛИЦА 2.6 | P8: Cf, коэффициент сгорания; не имеет размерности | Q8: 0.33
A9: Изменение запасов С в пуле порубочных остатков, тонн С | B9: =B8 -> 663.84031 | C9: =C8-B8 -> 644.13272 | D9: =D8-C8 -> 625.01019 | E9: =E8-D8 -> 606.45536 | F9: =F8-E8 -> 588.45137 | G9: =G8-F8 -> 570.98187 | H9: =H8-G8 -> 554.03099 | I9: =I8-H8 -> 537.58333 | J9: =J8-I8 -> 521.62396 | ... L9: =L8-K8 -> 491.11253 | O9: IPCC, 2019 | P9: постоянная реакции k | Q9: =LN(2)/Q10 -> 0.030136834
A10: Выбросы от разложения порубочных остатков,тонн СО2-экв | B10: =B9*44/12 -> 2434.0811 | C10: =C9*0.7*44/12 -> 1653.274 | D10: =D9*0.7*44/12 -> 1604.1928 | E10: =E9*0.7*44/12 -> 1556.5688 | F10: =F9*0.7*44/12 -> 1510.3585 | G10: =G9*0.7*44/12 -> 1465.5201 | H10: =H9*0.7*44/12 -> 1422.0129 | I10: =I9*0.7*44/12 -> 1379.7972 | J10: =J9*0.7*44/12 -> 1338.8348 | ... L10: =L9*0.7*44/12 -> 1260.5222 | M10: =SUM(B10:L10) -> 16924.251 | O10: МГЭИК,2006 (Том 5, таблица 3.4 - среднее для арктической и умеренной зоны) | P10: half-life | Q10: 23
A11: Выбросы от сжигания порубочных остатков,тонн СО2-экв | B11: =B5*($Q$5/1000)*$Q$8+B5*($Q$6/1000)*$Q$8*28+B5*($Q$7/1000)*$Q$8*265 -> 482.43355 | C11: =C5*($Q$5/1000)*$Q$8+C5*($Q$6/1000)*$Q$8*28+C5*($Q$7/1000)*$Q$8*265 -> 482.43355 | D11: =D5*($Q$5/1000)*$Q$8+D5*($Q$6/1000)*$Q$8*28+D5*($Q$7/1000)*$Q$8*265 -> 482.43355 | E11: =E5*($Q$5/1000)*$Q$8+E5*($Q$6/1000)*$Q$8*28+E5*($Q$7/1000)*$Q$8*265 -> 482.43355 | F11: =F5*($Q$5/1000)*$Q$8+F5*($Q$6/1000)*$Q$8*28+F5*($Q$7/1000)*$Q$8*265 -> 482.43355 | G11: =G5*($Q$5/1000)*$Q$8+G5*($Q$6/1000)*$Q$8*28+G5*($Q$7/1000)*$Q$8*265 -> 482.43355 | H11: =H5*($Q$5/1000)*$Q$8+H5*($Q$6/1000)*$Q$8*28+H5*($Q$7/1000)*$Q$8*265 -> 482.43355 | I11: =I5*($Q$5/1000)*$Q$8+I5*($Q$6/1000)*$Q$8*28+I5*($Q$7/1000)*$Q$8*265 -> 482.43355 | ... L11: =L5*($Q$5/1000)*$Q$8+L5*($Q$6/1000)*$Q$8*28+L5*($Q$7/1000)*$Q$8*265 -> 482.43355 | O11: Coefficients for stock eq.(IPCC, 2019) | P11: exp(-k) | Q11: =EXP(-Q9) -> 0.97031275
A12: Выбросы, тонн СО2-экв | B12: =B10+B11 -> 2916.5147 | C12: =C10+C11 -> 2135.7075 | D12: =D10+D11 -> 2086.6264 | E12: =E10+E11 -> 2039.0023 | F12: =F10+F11 -> 1992.7921 | G12: =G10+G11 -> 1947.9537 | H12: =H10+H11 -> 1904.4464 | I12: =I10+I11 -> 1862.2308 | ... L12: =L10+L11 -> 1742.9557 | P12: (1-exp(-k))/k | Q12: =(1-Q11)/Q9 -> 0.98508182
A13: Захоронение углерода, т CO2-экв. (суммарно) | B13: =(B8)*-44/12 -> -2434.0811 | C13: =(C8+C9*0.3)*-44/12 -> -5504.4471 | D13: =(D8+D9*0.3)*-44/12 -> -7775.1163 | E13: =(E8+E9*0.3)*-44/12 -> -9978.3757 | F13: =(F8+F9*0.3)*-44/12 -> -12116.226 | G13: =(G8+G9*0.3)*-44/12 -> -14190.61 | H13: =(H8+H9*0.3)*-44/12 -> -16203.411 | I13: =(I8+I9*0.3)*-44/12 -> -18156.457 | J13: =(J8+J9*0.3)*-44/12 -> -20051.523 | ... L13: =(L8+L9*0.3)*-44/12 -> -23674.547 | M13: =SUM(B13:L13) -> -151975.13 | O13: Расчетный | P13: Среднее значение поступления С в пул порубочных остатков,необходимое для расчетов последнего года базовой линии | Q13: =AVERAGE(G7:L7) -> 663.84031
A14: Захоронение углерода, т CO2-экв. | B14: =B13 -> -2434.0811 | C14: =C13-B13 -> -3070.366 | D14: =D13-C13 -> -2270.6693 | E14: =E13-D13 -> -2203.2593 | F14: =F13-E13 -> -2137.8506 | G14: =G13-F13 -> -2074.3837 | H14: =H13-G13 -> -2012.801 | I14: =I13-H13 -> -1953.0465 | J14: =J13-I13 -> -1895.0659 | ... L14: =L13-K13 -> -1784.2175 | O14: Расчетный | P14: Расчетное значение запаса С на основе среднего сзначение поступления С в пул порубочных остатков базовой линии | Q14: =$Q$11*L8+$Q$12*Q13 -> 6775.9905
A17: Поступление С в пул порубочных остатков, тонн С (если сразу массу умножить на 50%) | B17: =B3/2 -> 826.1768
O18: % добавки растительных отходов | P18: 45.049505
A19: Нужно отнять тот углерод который идет в почву от того, который способен к разложению. | O19: Ежегодное количество производимых блоков,м3 | P19: 5871
A20: Выбросы нужно добавить от аэробного разложения мульчи? | O20: Объём остатков,используемый в блоках ежегодно,м3 | P20: =$P$19*$P$18/100 -> 2644.8564

Sheet BE_chippedwood,y
B1: Годы зачетного периода | C1: Базовая линия | S1: Коэффициенты
C2: 2024 | D2: =C2+1 -> 2025 | E2: =D2+1 -> 2026 | F2: =E2+1 -> 2027 | G2: =F2+1 -> 2028 | H2: =G2+1 -> 2029 | I2: =H2+1 -> 2030 | J2: =I2+1 -> 2031 | K2: =J2+1 -> 2032 | ... Q2: =P2+1 -> 2038
B3: Масса образованой щепы древесной, тонн/год | C3: =PE_materials!D10 -> 1360.59 | D3: =PE_materials!E10 -> 1405.25 | E3: =PE_materials!F10 -> 1686.3 | F3: =PE_materials!G10 -> 1686.3 | G3: =PE_materials!H10 -> 1686.3 | H3: =PE_materials!I10 -> 1686.3 | I3: =PE_materials!J10 -> 1686.3 | J3: =PE_materials!K10 -> 1686.3 | ... Q3: =PE_materials!R10 -> 1686.3 | S3: IPCC, 2019 | T3: постоянная реакции k | U3: =LN(2)/U4 -> 0.23104906
B4: Ежегодное поступление C с щепой древесной, т C/год | C4: =C3*$U$7 -> 680.295 | D4: =D3*$U$7 -> 702.625 | E4: =E3*$U$7 -> 843.15 | F4: =F3*$U$7 -> 843.15 | G4: =G3*$U$7 -> 843.15 | H4: =H3*$U$7 -> 843.15 | I4: =I3*$U$7 -> 843.15 | J4: =J3*$U$7 -> 843.15 | ... Q4: =Q3*$U$7 -> 843.15 | S4: N. Hofmann et al., 2018 | T4: half-life (HL) | U4: 3
B5: Запас С (суммарный) в пуле щепы древесной к концу текущего года, тонн С (с учетом их постепенного разложения), т С/год | C5: =$U$5*0+C4*$U$6 -> 607.42295 | D5: =$U$5*C5+D4*$U$6 -> 1109.4729 | E5: =$U$5*D5+E4*$U$6 -> 1633.4224 | F5: =$U$5*E5+F4*$U$6 -> 2049.2814 | G5: =$U$5*F5+G4*$U$6 -> 2379.3489 | H5: =$U$5*G5+H4*$U$6 -> 2641.3237 | I5: =$U$5*H5+I4*$U$6 -> 2849.2532 | J5: =$U$5*I5+J4*$U$6 -> 3014.287 | K5: =$U$5*J5+K4*$U$6 -> 3145.2743 | ... Q5: =$U$5*P5+Q4*$U$6 -> 3523.2373 | S5: Coefficients for stock eq.(IPCC, 2019) | T5: exp(-k) | U5: =EXP(-U3) -> 0.79370053
B6: Хранение углерода в пуле щепы древесной (суммарно), т СО2-экв./год | C6: =C5*-44/12 -> -2227.2175 | D6: =D5*-44/12 -> -4068.0673 | E6: =E5*-44/12 -> -5989.2155 | F6: =F5*-44/12 -> -7514.0319 | G6: =G5*-44/12 -> -8724.2794 | H6: =H5*-44/12 -> -9684.8536 | I6: =I5*-44/12 -> -10447.262 | J6: =J5*-44/12 -> -11052.386 | ... Q6: =Q5*-44/12 -> -12918.537 | T6: (1-exp(-k))/k | U6: =(1-U5)/U3 -> 0.89288168
S7: Приказ Минприроды РФ от 27.05.2022 г. №371 | T7: Содержание С в биомассе щепы древесной | U7: 0.5
B9: Суммарный эффект проекта за 15 лет | C9: =Q6 -> -12918.537

Sheet PE_chippedwood,y
B1: Годы кредитного периода | C1: Базовая линия | S1: Коэффициенты
C2: =ФЕ!D1 -> 2024 | D2: =ФЕ!E1 -> 2025 | E2: =ФЕ!F1 -> 2026 | F2: =ФЕ!G1 -> 2027 | G2: =ФЕ!H1 -> 2028 | H2: =ФЕ!I1 -> 2029 | I2: =ФЕ!J1 -> 2030 | J2: =ФЕ!K1 -> 2031 | ... Q2: =ФЕ!R1 -> 2038
B3: Масса образованой щепы древесной, тонн/год | C3: =PE_materials!D10 -> 1360.59 | D3: =PE_materials!E10 -> 1405.25 | E3: =PE_materials!F10 -> 1686.3 | F3: =PE_materials!G10 -> 1686.3 | G3: =PE_materials!H10 -> 1686.3 | H3: =PE_materials!I10 -> 1686.3 | I3: =PE_materials!J10 -> 1686.3 | J3: =PE_materials!K10 -> 1686.3 | ... Q3: =PE_materials!R10 -> 1686.3 | S3: IPCC, 2019 | T3: постоянная реакции k | U3: =LN(2)/U4 -> 0.23104906
B4: Ежегодное поступление C с щепой древесной, т C/год | C4: =C3*$U$7 -> 680.295 | D4: =D3*$U$7 -> 702.625 | E4: =E3*$U$7 -> 843.15 | F4: =F3*$U$7 -> 843.15 | G4: =G3*$U$7 -> 843.15 | H4: =H3*$U$7 -> 843.15 | I4: =I3*$U$7 -> 843.15 | J4: =J3*$U$7 -> 843.15 | ... Q4: =Q3*$U$7 -> 843.15 | S4: N. Hofmann et al., 2018 | T4: half-life (HL) | U4: 3
B5: Запас С (суммарный) в пуле щепы древесной к концу текущего года, тонн С/год | C5: =C4 -> 680.295 | D5: =C5+D4 -> 1382.92 | E5: =D5+E4 -> 2226.07 | F5: =E5+F4 -> 3069.22 | G5: =F5+G4 -> 3912.37 | H5: =G5+H4 -> 4755.52 | I5: =H5+I4 -> 5598.67 | J5: =I5+J4 -> 6441.82 | K5: =J5+K4 -> 7284.97 | ... Q5: =P5+Q4 -> 12343.87 | S5: Coefficients for stock eq.(IPCC, 2019) | T5: exp(-k) | U5: =EXP(-U3) -> 0.79370053
B6: Хранение углерода в пуле щепы древесной, т CO2 (суммарно) | C6: =C5*-44/12 -> -2494.415 | D6: =D5*-44/12 -> -5070.7067 | E6: =E5*-44/12 -> -8162.2567 | F6: =F5*-44/12 -> -11253.807 | G6: =G5*-44/12 -> -14345.357 | H6: =H5*-44/12 -> -17436.907 | I6: =I5*-44/12 -> -20528.457 | J6: =J5*-44/12 -> -23620.007 | ... Q6: =Q5*-44/12 -> -45260.857 | T6: (1-exp(-k))/k | U6: =(1-U5)/U3 -> 0.89288168
S7: Приказ Минприроды РФ от 27.05.2022 г. №371 | T7: Содержание С в биомассе щепы древесной, Сcf,Т | U7: 0.5
B9: Суммарный эффект проекта за 15 лет (в т СО2) | C9: ='BE_chippedwood,y'!C9-'PE_chippedwood,y'!Q6 -> 32342.32
B11: Базовая линия (Щепа древесная) | C11: ='BE_chippedwood,y'!C6 -> -2227.2175 | D11: ='BE_chippedwood,y'!D6 -> -4068.0673 | E11: ='BE_chippedwood,y'!E6 -> -5989.2155 | F11: ='BE_chippedwood,y'!F6 -> -7514.0319 | G11: ='BE_chippedwood,y'!G6 -> -8724.2794 | H11: ='BE_chippedwood,y'!H6 -> -9684.8536 | I11: ='BE_chippedwood,y'!I6 -> -10447.262 | J11: ='BE_chippedwood,y'!J6 -> -11052.386 | ... Q11: ='BE_chippedwood,y'!Q6 -> -12918.537
B12: Проектный сценарий (Щепа древесная) | C12: =C6 -> -2494.415 | D12: =D6 -> -5070.7067 | E12: =E6 -> -8162.2567 | F12: =F6 -> -11253.807 | G12: =G6 -> -14345.357 | H12: =H6 -> -17436.907 | I12: =I6 -> -20528.457 | J12: =J6 -> -23620.007 | ... Q12: =Q6 -> -45260.857
B13: Разница | C13: =C12-C11 -> -267.19753 | D13: =D12-D11 -> -1002.6393 | E13: =E12-E11 -> -2173.0411 | F13: =F12-F11 -> -3739.7748 | G13: =G12-G11 -> -5621.0772 | H13: =H12-H11 -> -7752.0531 | I13: =I12-I11 -> -10081.195 | J13: =J12-J11 -> -12567.621 | ... Q13: =Q12-Q11 -> -32342.32

Sheet ФЕ
C1: y Ед. изм. | D1: 2024 | E1: =D1+1 -> 2025 | F1: =E1+1 -> 2026 | G1: =F1+1 -> 2027 | H1: =G1+1 -> 2028 | I1: =H1+1 -> 2029 | J1: =I1+1 -> 2030 | K1: =J1+1 -> 2031 | L1: =K1+1 -> 2032 | ... R1: =Q1+1 -> 2038 | U1: Обозначение | V1: Справочные значения | W1: Ед. изм. | X1: Значение
B2: Требуемое приведенное сопротивление теплопередаче ограждающей конструкции | C2: м2·°С/Вт | D2: =$X$6*$X$2+$X$7 -> 3.189515 | E2: =$X$6*$X$2+$X$7 -> 3.189515 | F2: =$X$6*$X$2+$X$7 -> 3.189515 | G2: =$X$6*$X$2+$X$7 -> 3.189515 | H2: =$X$6*$X$2+$X$7 -> 3.189515 | I2: =$X$6*$X$2+$X$7 -> 3.189515 | J2: =$X$6*$X$2+$X$7 -> 3.189515 | K2: =$X$6*$X$2+$X$7 -> 3.189515 | ... R2: =$X$6*$X$2+$X$7 -> 3.189515 | U2: ГСОП | V2: Градусо-суток отопительного периода (ГСОП) для климатической зоны строительства | W2: (°С · сут)/год | X2: =(X3-X4)*X5 -> 5112.9
B3: Коэффициент теплопроводности материала | V3: Расчетная температура внутреннего воздуха здания | W3: °С | X3: 20
B4: базовый сценарий | V4: Средняя температура наружного воздуха | W4: °С | X4: -4.7
B5: кирпич марки М125 | C5: Вт/м·С° | D5: 0.81 | E5: 0.81 | F5: 0.81 | G5: 0.81 | H5: 0.81 | I5: 0.81 | J5: 0.81 | K5: 0.81 | L5: 0.81 | M5: 0.81 | N5: 0.81 | O5: 0.81 | P5: 0.81 | Q5: 0.81 | R5: 0.81 | V5: Продолжительность отопительного периода | W5: сут/год | X5: 207
B6: минераловатные плиты фасадные | C6: Вт/м·С° | D6: 0.047 | E6: 0.047 | F6: 0.047 | G6: 0.047 | H6: 0.047 | I6: 0.047 | J6: 0.047 | K6: 0.047 | L6: 0.047 | M6: 0.047 | N6: 0.047 | O6: 0.047 | P6: 0.047 | Q6: 0.047 | R6: 0.047 | U6: a | V6: коэффициент | W6: - | X6: 0.00035
B7: проектный сценарий | U7: b | V7: коэффициент | W7: - | X7: 1.4
B8: арболит | C8: Вт/м·С° | D8: 0.12 | E8: 0.12 | F8: 0.12 | G8: 0.12 | H8: 0.12 | I8: 0.12 | J8: 0.12 | K8: 0.12 | L8: 0.12 | M8: 0.12 | N8: 0.12 | O8: 0.12 | P8: 0.12 | Q8: 0.12 | R8: 0.12
B9: Годовой объем выпуска строительного материала по проектному сценарию в год y | C9: м3 | D9: =PE_materials!D2 -> 5301 | E9: =PE_materials!E2 -> 5475 | F9: =PE_materials!F2 -> 6570 | G9: =PE_materials!G2 -> 6570 | H9: =PE_materials!H2 -> 6570 | I9: =PE_materials!I2 -> 6570 | J9: =PE_materials!J2 -> 6570 | K9: =PE_materials!K2 -> 6570 | ... R9: =PE_materials!R2 -> 6570
B10: Толщина ограждающей конструкции для проектного сценария | C10: м | D10: =ROUND(D2*D8,2) -> 0.38 | E10: =ROUND(E2*E8,2) -> 0.38 | F10: =ROUND(F2*F8,2) -> 0.38 | G10: =ROUND(G2*G8,2) -> 0.38 | H10: =ROUND(H2*H8,2) -> 0.38 | I10: =ROUND(I2*I8,2) -> 0.38 | J10: =ROUND(J2*J8,2) -> 0.38 | K10: =ROUND(K2*K8,2) -> 0.38 | ... R10: =ROUND(R2*R8,2) -> 0.38
B11: Площадь ограждающей конструкции, обеспечивающая требуемое приведенное сопротивление теплопередаче | C11: м2 | D11: =D9/D10 -> 13950 | E11: =E9/E10 -> 14407.895 | F11: =F9/F10 -> 17289.474 | G11: =G9/G10 -> 17289.474 | H11: =H9/H10 -> 17289.474 | I11: =I9/I10 -> 17289.474 | J11: =J9/J10 -> 17289.474 | K11: =K9/K10 -> 17289.474 | ... R11: =R9/R10 -> 17289.474
B12: Толщина ограждающей конструкции для базового сценария
B13: кирпич марки М125 | C13: м | D13: 0.38 | E13: 0.38 | F13: 0.38 | G13: 0.38 | H13: 0.38 | I13: 0.38 | J13: 0.38 | K13: 0.38 | L13: 0.38 | M13: 0.38 | N13: 0.38 | O13: 0.38 | P13: 0.38 | Q13: 0.38 | R13: 0.38
B14: минераловатные плиты фасадные | C14: м | D14: =ROUND(D16*D6,2) -> 0.13 | E14: =ROUND(E16*E6,2) -> 0.13 | F14: =ROUND(F16*F6,2) -> 0.13 | G14: =ROUND(G16*G6,2) -> 0.13 | H14: =ROUND(H16*H6,2) -> 0.13 | I14: =ROUND(I16*I6,2) -> 0.13 | J14: =ROUND(J16*J6,2) -> 0.13 | K14: =ROUND(K16*K6,2) -> 0.13 | ... R14: =ROUND(R16*R6,2) -> 0.13
B15: Сопротивление теплопередаче ограждающей конструкции из кирпича заданной толщины | C15: м2·°С/Вт | D15: =D13/D5 -> 0.4691358 | E15: =E13/E5 -> 0.4691358 | F15: =F13/F5 -> 0.4691358 | G15: =G13/G5 -> 0.4691358 | H15: =H13/H5 -> 0.4691358 | I15: =I13/I5 -> 0.4691358 | J15: =J13/J5 -> 0.4691358 | K15: =K13/K5 -> 0.4691358 | ... R15: =R13/R5 -> 0.4691358
B16: Требуемое приведенное сопротивление теплопередаче ограждающей конструкции из минеральной ваты | C16: м2·°С/Вт | D16: =D2-D15 -> 2.7203792 | E16: =E2-E15 -> 2.7203792 | F16: =F2-F15 -> 2.7203792 | G16: =G2-G15 -> 2.7203792 | H16: =H2-H15 -> 2.7203792 | I16: =I2-I15 -> 2.7203792 | J16: =J2-J15 -> 2.7203792 | K16: =K2-K15 -> 2.7203792 | ... R16: =R2-R15 -> 2.7203792
B17: Cопоставимый годовой объем выпуска строительного материала по базовому сценарию в год y
B18: кирпич марки М125 | C18: м3 | D18: =D11*D13 -> 5301 | E18: =E11*E13 -> 5475 | F18: =F11*F13 -> 6570 | G18: =G11*G13 -> 6570 | H18: =H11*H13 -> 6570 | I18: =I11*I13 -> 6570 | J18: =J11*J13 -> 6570 | K18: =K11*K13 -> 6570 | ... R18: =R11*R13 -> 6570
B19: минераловатные плиты фасадные | C19: м3 | D19: =D11*D14 -> 1813.5 | E19: =E11*E14 -> 1873.0263 | F19: =F11*F14 -> 2247.6316 | G19: =G11*G14 -> 2247.6316 | H19: =H11*H14 -> 2247.6316 | I19: =I11*I14 -> 2247.6316 | J19: =J11*J14 -> 2247.6316 | K19: =K11*K14 -> 2247.6316 | ... R19: =R11*R14 -> 2247.6316

Sheet BE_materials
C1: y Ед. изм. | D1: 2024 | E1: =D1+1 -> 2025 | F1: =E1+1 -> 2026 | G1: =F1+1 -> 2027 | H1: =G1+1 -> 2028 | I1: =H1+1 -> 2029 | J1: =I1+1 -> 2030 | K1: =J1+1 -> 2031 | L1: =K1+1 -> 2032 | ... R1: =Q1+1 -> 2038 | V1: Количество сырья и энергоносителей необходимых для производства 1 тонны готовой продукции ( плит минеральной ваты ) | Y1: Источник
B2: Сопоставимый годовой объем выпуска кирпича по базовому сценарию в год y | C2: м3 | D2: =ФЕ!D18 -> 5301 | E2: =ФЕ!E18 -> 5475 | F2: =ФЕ!F18 -> 6570 | G2: =ФЕ!G18 -> 6570 | H2: =ФЕ!H18 -> 6570 | I2: =ФЕ!I18 -> 6570 | J2: =ФЕ!J18 -> 6570 | K2: =ФЕ!K18 -> 6570 | ... R2: =ФЕ!R18 -> 6570 | V2: Общая номинальная мощность электрооборудования линии - при производительности 30 000 т. ( печь на 4т/ч) | W2: 2100 | X2: кВт | Y2: ПТД сноска 75
B3: Плотность кирпича марки М125 | C3: кг/м3 | D3: 1850 | E3: 1850 | F3: 1850 | G3: 1850 | H3: 1850 | I3: 1850 | J3: 1850 | K3: 1850 | L3: 1850 | M3: 1850 | N3: 1850 | O3: 1850 | P3: 1850 | Q3: 1850 | R3: 1850 | V3: Расход природного газа - при производительности 30 000 т. ( печь на 4т/ч) | W3: 600 | X3: м3 /ч | Y3: ПТД сноска 75
B4: Сопоставимый годовой объем выпуска кирпича по базовому сценарию в год y | C4: т | D4: =D2*D3*0.001 -> 9806.85 | E4: =E2*E3*0.001 -> 10128.75 | F4: =F2*F3*0.001 -> 12154.5 | G4: =G2*G3*0.001 -> 12154.5 | H4: =H2*H3*0.001 -> 12154.5 | I4: =I2*I3*0.001 -> 12154.5 | J4: =J2*J3*0.001 -> 12154.5 | K4: =K2*K3*0.001 -> 12154.5 | ... R4: =R2*R3*0.001 -> 12154.5 | V4: Удельный расход электроэнергии на производство 1 т продукции | W4: =W2/4 -> 525 | X4: кВт×ч/т | Y4: ПТД Табл. Е.5
B5: Удельный расход природного газа на производство 1 т кирпича | C5: МДж/т | D5: 2500 | E5: 2500 | F5: 2500 | G5: 2500 | H5: 2500 | I5: 2500 | J5: 2500 | K5: 2500 | L5: 2500 | M5: 2500 | N5: 2500 | O5: 2500 | P5: 2500 | Q5: 2500 | R5: 2500 | V5: Удельный расход природного газа на производство 1 т продукции | W5: =W3/4 -> 150 | X5: м3 /т | Y5: ПТД Табл. Е.5
B6: Расход природного газа по базовому сценарию на производство заданного объема кирпича в год y | C6: ТДж/год | D6: =D5*D4/10^6 -> 24.517125 | E6: =E5*E4/10^6 -> 25.321875 | F6: =F5*F4/10^6 -> 30.38625 | G6: =G5*G4/10^6 -> 30.38625 | H6: =H5*H4/10^6 -> 30.38625 | I6: =I5*I4/10^6 -> 30.38625 | J6: =J5*J4/10^6 -> 30.38625 | K6: =K5*K4/10^6 -> 30.38625 | ... R6: =R5*R4/10^6 -> 30.38625
B7: Коэффиицент выбросов CO2 от стационарного сжигания природного газа | C7: т CO2/ТДж | D7: 54.4 | E7: 54.4 | F7: 54.4 | G7: 54.4 | H7: 54.4 | I7: 54.4 | J7: 54.4 | K7: 54.4 | L7: 54.4 | M7: 54.4 | N7: 54.4 | O7: 54.4 | P7: 54.4 | Q7: 54.4 | R7: 54.4
B8: Выбросы от стационарного сжигания собственного топлива | C8: т CO2/год | D8: =D6*D7 -> 1333.7316 | E8: =E6*E7 -> 1377.51 | F8: =F6*F7 -> 1653.012 | G8: =G6*G7 -> 1653.012 | H8: =H6*H7 -> 1653.012 | I8: =I6*I7 -> 1653.012 | J8: =J6*J7 -> 1653.012 | K8: =K6*K7 -> 1653.012 | ... R8: =R6*R7 -> 1653.012
B10: Удельный расход электроэнергии на производство 1 т кирпича | C10: кВт·ч/т | D10: 75 | E10: 75 | F10: 75 | G10: 75 | H10: 75 | I10: 75 | J10: 75 | K10: 75 | L10: 75 | M10: 75 | N10: 75 | O10: 75 | P10: 75 | Q10: 75 | R10: 75
B11: Потребление электроэнергии на площадке из сети в отчетном году y при производстве кирпича марки М125 | C11: МВт·ч/год | D11: =(D10*D4)*0.001 -> 735.51375 | E11: =(E10*E4)*0.001 -> 759.65625 | F11: =(F10*F4)*0.001 -> 911.5875 | G11: =(G10*G4)*0.001 -> 911.5875 | H11: =(H10*H4)*0.001 -> 911.5875 | I11: =(I10*I4)*0.001 -> 911.5875 | J11: =(J10*J4)*0.001 -> 911.5875 | K11: =(K10*K4)*0.001 -> 911.5875 | ... R11: =(R10*R4)*0.001 -> 911.5875
B12: Сетевой коэффициент выбросов | C12: кг CO2/МВт·ч | D12: 332.5 | E12: 335.6 | F12: =AVERAGE(D12:E12) -> 334.05 | G12: =F12 -> 334.05 | H12: =G12 -> 334.05 | I12: =H12 -> 334.05 | J12: =I12 -> 334.05 | K12: =J12 -> 334.05 | L12: =K12 -> 334.05 | M12: =L12 -> 334.05 | N12: =M12 -> 334.05 | ... R12: =Q12 -> 334.05
B13: Выбросы от потребления покупной электроэнергии из сети в год | C13: т CO2/год | D13: =D11*D12*0.001 -> 244.55832 | E13: =E11*E12*0.001 -> 254.94064 | F13: =F11*F12*0.001 -> 304.5158 | G13: =G11*G12*0.001 -> 304.5158 | H13: =H11*H12*0.001 -> 304.5158 | I13: =I11*I12*0.001 -> 304.5158 | J13: =J11*J12*0.001 -> 304.5158 | K13: =K11*K12*0.001 -> 304.5158 | ... R13: =R11*R12*0.001 -> 304.5158
B15: Выбросы строительного материала 1 в базовом сценариев по модулю A3 в год y | C15: т CO2/год | D15: =D13+D8 -> 1578.2899 | E15: =E13+E8 -> 1632.4506 | F15: =F13+F8 -> 1957.5278 | G15: =G13+G8 -> 1957.5278 | H15: =H13+H8 -> 1957.5278 | I15: =I13+I8 -> 1957.5278 | J15: =J13+J8 -> 1957.5278 | K15: =K13+K8 -> 1957.5278 | ... R15: =R13+R8 -> 1957.5278
B16: Суммарный вклад модулей A1+A2 для кирпича | C16: % | D16: 20 | E16: 20 | F16: 20 | G16: 20 | H16: 20 | I16: 20 | J16: 20 | K16: 20 | L16: 20 | M16: 20 | N16: 20 | O16: 20 | P16: 20 | Q16: 20 | R16: 20
B17: Выбросы строительного материала 1 в базовом сценариев по модулям А1+A2 в год y | C17: т CO2/год | D17: =D15*D16/100 -> 315.65798 | E17: =E15*E16/100 -> 326.49013 | F17: =F15*F16/100 -> 391.50556 | G17: =G15*G16/100 -> 391.50556 | H17: =H15*H16/100 -> 391.50556 | I17: =I15*I16/100 -> 391.50556 | J17: =J15*J16/100 -> 391.50556 | K17: =K15*K16/100 -> 391.50556 | ... R17: =R15*R16/100 -> 391.50556
C20: y Ед. изм. | D20: =D1 -> 2024 | E20: =E1 -> 2025 | F20: =F1 -> 2026 | G20: =G1 -> 2027 | H20: =H1 -> 2028 | I20: =I1 -> 2029 | J20: =J1 -> 2030 | K20: =K1 -> 2031 | ... R20: =R1 -> 2038
B21: Сопоставимый годовой объем выпуска минеральной ваты по базовому сценарию в год y | C21: м3 | D21: =ФЕ!D19 -> 1813.5 | E21: =ФЕ!E19 -> 1873.0263 | F21: =ФЕ!F19 -> 2247.6316 | G21: =ФЕ!G19 -> 2247.6316 | H21: =ФЕ!H19 -> 2247.6316 | I21: =ФЕ!I19 -> 2247.6316 | J21: =ФЕ!J19 -> 2247.6316 | K21: =ФЕ!K19 -> 2247.6316 | ... R21: =ФЕ!R19 -> 2247.6316
B22: Плотность фасадной минеральной ваты | C22: кг/м3 | D22: 80 | E22: 80 | F22: 80 | G22: 80 | H22: 80 | I22: 80 | J22: 80 | K22: 80 | L22: 80 | M22: 80 | N22: 80 | O22: 80 | P22: 80 | Q22: 80 | R22: 80
B23: Сопоставимый годовой объем выпуска минеральной ваты по базовому сценарию в год y | C23: т | D23: =D21*D22*0.001 -> 145.08 | E23: =E21*E22*0.001 -> 149.84211 | F23: =F21*F22*0.001 -> 179.81053 | G23: =G21*G22*0.001 -> 179.81053 | H23: =H21*H22*0.001 -> 179.81053 | I23: =I21*I22*0.001 -> 179.81053 | J23: =J21*J22*0.001 -> 179.81053 | K23: =K21*K22*0.001 -> 179.81053 | ... R23: =R21*R22*0.001 -> 179.81053
B24: Удельный расход природного газа на производство 1 т минеральной ваты | C24: м3/т | D24: =W5 -> 150 | E24: =D24 -> 150 | F24: =E24 -> 150 | G24: =F24 -> 150 | H24: =G24 -> 150 | I24: =H24 -> 150 | J24: =I24 -> 150 | K24: =J24 -> 150 | L24: =K24 -> 150 | ... R24: =Q24 -> 150
B25: НТС природного газа | C25: МДж/м3 | D25: 33.08 | E25: 33.08 | F25: 33.08 | G25: 33.08 | H25: 33.08 | I25: 33.08 | J25: 33.08 | K25: 33.08 | L25: 33.08 | M25: 33.08 | N25: 33.08 | O25: 33.08 | P25: 33.08 | Q25: 33.08 | R25: 33.08
B27: Удельный расход кокса литейного на производство 1 т минеральной ваты | C27: кг/т | D27: 140 | E27: 140 | F27: 140 | G27: 140 | H27: 140 | I27: 140 | J27: 140 | K27: 140 | L27: 140 | M27: 140 | N27: 140 | O27: 140 | P27: 140 | Q27: 140 | R27: 140
B28: Коэффиицент выбросов CO2 от стационарного сжигания кокса металлургического | C28: т CO2/т.у.т. | D28: 3.14 | E28: 3.14 | F28: 3.14 | G28: 3.14 | H28: 3.14 | I28: 3.14 | J28: 3.14 | K28: 3.14 | L28: 3.14 | M28: 3.14 | N28: 3.14 | O28: 3.14 | P28: 3.14 | Q28: 3.14 | R28: 3.14
B29: НТС кокса металлургического | C29: т.у.т./т | D29: 0.99 | E29: 0.99 | F29: 0.99 | G29: 0.99 | H29: 0.99 | I29: 0.99 | J29: 0.99 | K29: 0.99 | L29: 0.99 | M29: 0.99 | N29: 0.99 | O29: 0.99 | P29: 0.99 | Q29: 0.99 | R29: 0.99
B30: Коэффиицент выбросов CO2 от стационарного сжигания кокса металлургического | C30: т CO2/т | D30: =D28*D29 -> 3.1086 | E30: =E28*E29 -> 3.1086 | F30: =F28*F29 -> 3.1086 | G30: =G28*G29 -> 3.1086 | H30: =H28*H29 -> 3.1086 | I30: =I28*I29 -> 3.1086 | J30: =J28*J29 -> 3.1086 | K30: =K28*K29 -> 3.1086 | ... R30: =R28*R29 -> 3.1086
B31: Коэффиицент выбросов CO2 от стационарного сжигания природного газа | C31: т CO2/ТДж | D31: 54.4 | E31: 54.4 | F31: 54.4 | G31: 54.4 | H31: 54.4 | I31: 54.4 | J31: 54.4 | K31: 54.4 | L31: 54.4 | M31: 54.4 | N31: 54.4 | O31: 54.4 | P31: 54.4 | Q31: 54.4 | R31: 54.4
B32: Расход природного газа по базовому сценарию на производство заданного объема минеральной ваты в год y | C32: ТДж/год | D32: =D24*D23*D25/10^6 -> 0.71988696 | E32: =E24*E23*E25/10^6 -> 0.74351653 | F32: =F24*F23*F25/10^6 -> 0.89221983 | G32: =G24*G23*G25/10^6 -> 0.89221983 | H32: =H24*H23*H25/10^6 -> 0.89221983 | I32: =I24*I23*I25/10^6 -> 0.89221983 | J32: =J24*J23*J25/10^6 -> 0.89221983 | K32: =K24*K23*K25/10^6 -> 0.89221983 | ... R32: =R24*R23*R25/10^6 -> 0.89221983
B33: Расход кокса металлургического по базовому сценарию на производство заданного объема минеральной ваты в год y | C33: т/год | D33: =D23*D27*0.001 -> 20.3112 | E33: =E23*E27*0.001 -> 20.977895 | F33: =F23*F27*0.001 -> 25.173474 | G33: =G23*G27*0.001 -> 25.173474 | H33: =H23*H27*0.001 -> 25.173474 | I33: =I23*I27*0.001 -> 25.173474 | J33: =J23*J27*0.001 -> 25.173474 | K33: =K23*K27*0.001 -> 25.173474 | ... R33: =R23*R27*0.001 -> 25.173474
B34: Выбросы от стационарного сжигания природного газа | C34: т CO2/год | D34: =D32*D31 -> 39.161851 | E34: =E32*E31 -> 40.447299 | F34: =F32*F31 -> 48.536759 | G34: =G32*G31 -> 48.536759 | H34: =H32*H31 -> 48.536759 | I34: =I32*I31 -> 48.536759 | J34: =J32*J31 -> 48.536759 | K34: =K32*K31 -> 48.536759 | ... R34: =R32*R31 -> 48.536759
B35: Выбросы от стационарного сжигания кокса металлургического | C35: т CO2/год | D35: =D30*D33 -> 63.139396 | E35: =E30*E33 -> 65.211884 | F35: =F30*F33 -> 78.25426 | G35: =G30*G33 -> 78.25426 | H35: =H30*H33 -> 78.25426 | I35: =I30*I33 -> 78.25426 | J35: =J30*J33 -> 78.25426 | K35: =K30*K33 -> 78.25426 | ... R35: =R30*R33 -> 78.25426
B36: Выбросы от стационарного сжигания собственного топлива при производстве минеральной ваты | C36: т CO2/год | D36: =D34+D35 -> 102.30125 | E36: =E34+E35 -> 105.65918 | F36: =F34+F35 -> 126.79102 | G36: =G34+G35 -> 126.79102 | H36: =H34+H35 -> 126.79102 | I36: =I34+I35 -> 126.79102 | J36: =J34+J35 -> 126.79102 | K36: =K34+K35 -> 126.79102 | ... R36: =R34+R35 -> 126.79102
B38: Потребление электроэнергии для производства минеральной ваты y в базовом сценарии | C38: МВт·ч | D38: =($W$4*D23)*0.001 -> 76.167 | E38: =($W$4*E23)*0.001 -> 78.667105 | F38: =($W$4*F23)*0.001 -> 94.400526 | G38: =($W$4*G23)*0.001 -> 94.400526 | H38: =($W$4*H23)*0.001 -> 94.400526 | I38: =($W$4*I23)*0.001 -> 94.400526 | J38: =($W$4*J23)*0.001 -> 94.400526 | K38: =($W$4*K23)*0.001 -> 94.400526 | ... R38: =($W$4*R23)*0.001 -> 94.400526
B39: Сетевой коэффициент выбросов | C39: кг CO2/МВт·ч | D39: 332.5 | E39: 335.6 | F39: =AVERAGE(D39:E39) -> 334.05 | G39: =F39 -> 334.05 | H39: =G39 -> 334.05 | I39: =H39 -> 334.05 | J39: =I39 -> 334.05 | K39: =J39 -> 334.05 | L39: =K39 -> 334.05 | M39: =L39 -> 334.05 | N39: =M39 -> 334.05 | ... R39: =Q39 -> 334.05
B40: Выбросы от потребления покупной электроэнергии из сети в год при производстве минеральной ваты | C40: т CO2/год | D40: =D38*D39*0.001 -> 25.325527 | E40: =E38*E39*0.001 -> 26.400681 | F40: =F38*F39*0.001 -> 31.534496 | G40: =G38*G39*0.001 -> 31.534496 | H40: =H38*H39*0.001 -> 31.534496 | I40: =I38*I39*0.001 -> 31.534496 | J40: =J38*J39*0.001 -> 31.534496 | K40: =K38*K39*0.001 -> 31.534496 | ... R40: =R38*R39*0.001 -> 31.534496
B41: Выбросы строительного материала 1 в базовом сценариев по модулю A3 в год y | C41: т CO2/год | D41: =D40+D36 -> 127.62677 | E41: =E40+E36 -> 132.05986 | F41: =F40+F36 -> 158.32551 | G41: =G40+G36 -> 158.32551 | H41: =H40+H36 -> 158.32551 | I41: =I40+I36 -> 158.32551 | J41: =J40+J36 -> 158.32551 | K41: =K40+K36 -> 158.32551 | ... R41: =R40+R36 -> 158.32551
B43: Суммарный вклад модулей A1+A2 для минеральной ваты | C43: % | D43: 15 | E43: 15 | F43: 15 | G43: 15 | H43: 15 | I43: 15 | J43: 15 | K43: 15 | L43: 15 | M43: 15 | N43: 15 | O43: 15 | P43: 15 | Q43: 15 | R43: 15
B44: Выбросы от производства минеральной ваты в базовом сценариев модуле А1+A2 в год y | C44: т CO2/год | D44: =D41*D43/100 -> 19.144016 | E44: =E41*E43/100 -> 19.808979 | F44: =F41*F43/100 -> 23.748827 | G44: =G41*G43/100 -> 23.748827 | H44: =H41*H43/100 -> 23.748827 | I44: =I41*I43/100 -> 23.748827 | J44: =J41*J43/100 -> 23.748827 | K44: =K41*K43/100 -> 23.748827 | ... R44: =R41*R43/100 -> 23.748827
B47: Выбросы от производства кирпичей в год y по базовому сценарию | C47: т CO2/год | D47: =D15+D17 -> 1893.9479 | E47: =E15+E17 -> 1958.9408 | F47: =F15+F17 -> 2349.0334 | G47: =G15+G17 -> 2349.0334 | H47: =H15+H17 -> 2349.0334 | I47: =I15+I17 -> 2349.0334 | J47: =J15+J17 -> 2349.0334 | K47: =K15+K17 -> 2349.0334 | ... R47: =R15+R17 -> 2349.0334
B48: Выбросы от производства минеральной ваты в год y по базовому сценарию | C48: т CO2/год | D48: =D41+D44 -> 146.77079 | E48: =E41+E44 -> 151.86884 | F48: =F41+F44 -> 182.07434 | G48: =G41+G44 -> 182.07434 | H48: =H41+H44 -> 182.07434 | I48: =I41+I44 -> 182.07434 | J48: =J41+J44 -> 182.07434 | K48: =K41+K44 -> 182.07434 | ... R48: =R41+R44 -> 182.07434
B49: Выбросы в год y по базовой линии материалов, выполняющих ту же функцию, что и продукция проекта | C49: т CO2/год | D49: =D47+D48+D51 -> 2132.9037 | E49: =E47+E48+E51 -> 2206.8946 | F49: =F47+F48+F51 -> 2645.8852 | G49: =G47+G48+G51 -> 2645.8852 | H49: =H47+H48+H51 -> 2645.8852 | I49: =I47+I48+I51 -> 2645.8852 | J49: =J47+J48+J51 -> 2645.8852 | K49: =K47+K48+K51 -> 2645.8852 | ... R49: =R47+R48+R51 -> 2645.8852
...

Sheet PE_materials
C1: y Ед. изм. | D1: 2024 | E1: =D1+1 -> 2025 | F1: =E1+1 -> 2026 | G1: =F1+1 -> 2027 | H1: =G1+1 -> 2028 | I1: =H1+1 -> 2029 | J1: =I1+1 -> 2030 | K1: =J1+1 -> 2031 | L1: =K1+1 -> 2032 | ... R1: =Q1+1 -> 2038 | U1: Расчет массовой концентрации сухой щепы
B2: Годовой объем выпуска строительного материала | C2: м3 | D2: 5301 | E2: 5475 | F2: 6570 | G2: 6570 | H2: 6570 | I2: 6570 | J2: 6570 | K2: 6570 | L2: 6570 | M2: 6570 | N2: 6570 | O2: 6570 | P2: 6570 | Q2: 6570 | R2: 6570 | V2: Ед. изм. | W2: Значение | X2: Источник
B3: Ср. плотность строительного материала | C3: кг/м3 | D3: 600 | E3: 600 | F3: 600 | G3: 600 | H3: 600 | I3: 600 | J3: 600 | K3: 600 | L3: 600 | M3: 600 | N3: 600 | O3: 600 | P3: 600 | Q3: 600 | R3: 600 | U3: Плотность готового блока арболита мари D600 | V3: кг/м3 | W3: 600 | X3: ГОСТ 19222-2019
B4: Производство арболита | C4: кг | D4: =D2*D3 -> 3180600 | E4: =E2*E3 -> 3285000 | F4: =F2*F3 -> 3942000 | G4: =G2*G3 -> 3942000 | H4: =H2*H3 -> 3942000 | I4: =I2*I3 -> 3942000 | J4: =J2*J3 -> 3942000 | K4: =K2*K3 -> 3942000 | ... R4: =R2*R3 -> 3942000 | U4: Размеры одного блока арболита марки D600 | V4: мм´мм´мм | W4: 500´300´200 | X4: ТР, Табл. 1.2.
B5: Массовая доля материалы/сырья j в одном строительном блоке | U5: Объем 1 блока арболита марки D600 | V5: м3 | W5: =0.5*0.3*0.2 -> 0.03
A6: j1 | B6: Щепа древесная | C6: д.ед. | D6: =W29 -> 0.42777778 | E6: =D6 -> 0.42777778 | F6: =E6 -> 0.42777778 | G6: =F6 -> 0.42777778 | H6: =G6 -> 0.42777778 | I6: =H6 -> 0.42777778 | J6: =I6 -> 0.42777778 | K6: =J6 -> 0.42777778 | L6: =K6 -> 0.42777778 | ... R6: =Q6 -> 0.42777778 | U6: Масса 1 блока арболита марки D600 | V6: кг | W6: =W3*W5 -> 18
A7: j2 | B7: Цемент | C7: д.ед. | D7: =W27 -> 0.55555556 | E7: =D7 -> 0.55555556 | F7: =E7 -> 0.55555556 | G7: =F7 -> 0.55555556 | H7: =G7 -> 0.55555556 | I7: =H7 -> 0.55555556 | J7: =I7 -> 0.55555556 | K7: =J7 -> 0.55555556 | L7: =K7 -> 0.55555556 | ... R7: =Q7 -> 0.55555556 | U7: Количество блоков марки D600 за 1 цикл | V7: шт. | W7: 10 | X7: ТР, Разд. 3.2.
A8: j3 | B8: Сульфат алюминия | C8: д.ед. | D8: =W28 -> 0.016666667 | E8: =D8 -> 0.016666667 | F8: =E8 -> 0.016666667 | G8: =F8 -> 0.016666667 | H8: =G8 -> 0.016666667 | I8: =H8 -> 0.016666667 | J8: =I8 -> 0.016666667 | K8: =J8 -> 0.016666667 | L8: =K8 -> 0.016666667 | ... R8: =Q8 -> 0.016666667 | U8: Масса блоков арболита за 1 цикл (10 шт.) | V8: кг | W8: =W6*W7 -> 180
B9: Расход сырья для производства требуемого количества арболита (Q_P,j,y) | U9: Масса раствора воды и Al2(SO4)2 на 20 циклов | V9: кг | W9: =W10+W11 -> 1010 | X9: ТР, Разд. 3.2.*
B10: Щепа древесная | C10: т | D10: =D$4*D6*0.001 -> 1360.59 | E10: =E$4*E6*0.001 -> 1405.25 | F10: =F$4*F6*0.001 -> 1686.3 | G10: =G$4*G6*0.001 -> 1686.3 | H10: =H$4*H6*0.001 -> 1686.3 | I10: =I$4*I6*0.001 -> 1686.3 | J10: =J$4*J6*0.001 -> 1686.3 | K10: =K$4*K6*0.001 -> 1686.3 | ... R10: =R$4*R6*0.001 -> 1686.3 | U10: Вода | V10: л | W10: 950 | X10: ТР, Разд. 3.2.
B11: Цемент | C11: т | D11: =D$4*D7*0.001 -> 1767 | E11: =E$4*E7*0.001 -> 1825 | F11: =F$4*F7*0.001 -> 2190 | G11: =G$4*G7*0.001 -> 2190 | H11: =H$4*H7*0.001 -> 2190 | I11: =I$4*I7*0.001 -> 2190 | J11: =J$4*J7*0.001 -> 2190 | K11: =K$4*K7*0.001 -> 2190 | ... R11: =R$4*R7*0.001 -> 2190 | U11: Al2(SO4)2 | V11: кг | W11: 60 | X11: ТР, Разд. 3.2.
B12: Сульфат алюминия | C12: т | D12: =D$4*D8*0.001 -> 53.01 | E12: =E$4*E8*0.001 -> 54.75 | F12: =F$4*F8*0.001 -> 65.7 | G12: =G$4*G8*0.001 -> 65.7 | H12: =H$4*H8*0.001 -> 65.7 | I12: =I$4*I8*0.001 -> 65.7 | J12: =J$4*J8*0.001 -> 65.7 | K12: =K$4*K8*0.001 -> 65.7 | ... R12: =R$4*R8*0.001 -> 65.7 | U12: Материальный баланс на 1 цикл
B13: Удельный расход электроэнергии линии для подготовки древесной щепы на местах складирования | C13: кВт×ч/т | D13: =((115+95+91)/1.5) -> 200.66667 | E13: =((115+95+91)/1.5) -> 200.66667 | F13: =((115+95+91)/1.5) -> 200.66667 | G13: =((115+95+91)/1.5) -> 200.66667 | H13: =((115+95+91)/1.5) -> 200.66667 | I13: =((115+95+91)/1.5) -> 200.66667 | J13: =((115+95+91)/1.5) -> 200.66667 | K13: =((115+95+91)/1.5) -> 200.66667 | ... R13: =((115+95+91)/1.5) -> 200.66667
B14: Расстояние «туда-обратно» до места складирования древесной щепы | C14: км | D14: 8 | E14: =D14 -> 8 | F14: =E14 -> 8 | G14: =F14 -> 8 | H14: =G14 -> 8 | I14: =H14 -> 8 | J14: =I14 -> 8 | K14: =J14 -> 8 | L14: =K14 -> 8 | ... R14: =Q14 -> 8
U15: Раствор воды и Al2(SO4)2 на 1 цикл | V15: кг | W15: =W9/20 -> 50.5 | X15: *
B16: Удельный вклад A1-A3
A17: j1 | B17: Щепа древесная | C17: т CO2/т | D17: =((D13*0.001*D39*0.001)+(D14*D34*10^-6)) -> 0.067753667 | E17: =((E13*0.001*E39*0.001)+(E14*E34*10^-6)) -> 0.068375733 | F17: =((F13*0.001*F39*0.001)+(F14*F34*10^-6)) -> 0.0680647 | G17: =((G13*0.001*G39*0.001)+(G14*G34*10^-6)) -> 0.0680647 | H17: =((H13*0.001*H39*0.001)+(H14*H34*10^-6)) -> 0.0680647 | I17: =((I13*0.001*I39*0.001)+(I14*I34*10^-6)) -> 0.0680647 | J17: =((J13*0.001*J39*0.001)+(J14*J34*10^-6)) -> 0.0680647 | K17: =((K13*0.001*K39*0.001)+(K14*K34*10^-6)) -> 0.0680647 | ... R17: =((R13*0.001*R39*0.001)+(R14*R34*10^-6)) -> 0.0680647 | U17: Вода | V17: л | W17: =W10/20 -> 47.5
A18: j2 | B18: Цемент | C18: т CO2/т | D18: 0.85 | E18: 0.85 | F18: 0.85 | G18: 0.85 | H18: 0.85 | I18: 0.85 | J18: 0.85 | K18: 0.85 | L18: 0.85 | M18: 0.85 | N18: 0.85 | O18: 0.85 | P18: 0.85 | Q18: 0.85 | R18: 0.85 | U18: Al2(SO4)2 | V18: кг | W18: =W11/20 -> 3 | X18: ТР, Разд. 3.2.
A19: j3 | B19: Сульфат алюминия | C19: т CO2/т | D19: 0.295 | E19: 0.295 | F19: 0.295 | G19: 0.295 | H19: 0.295 | I19: 0.295 | J19: 0.295 | K19: 0.295 | L19: 0.295 | M19: 0.295 | N19: 0.295 | O19: 0.295 | P19: 0.295 | Q19: 0.295 | R19: 0.295 | U19: Цемент | V19: кг | W19: 100 | X19: ТР, Разд. 3.2. и Табл. 2
B20: Выбросы строительного материала в проектном сценарии в модуле А1 | C20: т CO2/год | D20: =D10*D17+D11*D18+D12*D19 -> 1609.7729 | E20: =E10*E17+E11*E18+E12*E19 -> 1663.4862 | F20: =F10*F17+F11*F18+F12*F19 -> 1995.659 | G20: =G10*G17+G11*G18+G12*G19 -> 1995.659 | H20: =H10*H17+H11*H18+H12*H19 -> 1995.659 | I20: =I10*I17+I11*I18+I12*I19 -> 1995.659 | J20: =J10*J17+J11*J18+J12*J19 -> 1995.659 | K20: =K10*K17+K11*K18+K12*K19 -> 1995.659 | ... R20: =R10*R17+R11*R18+R12*R19 -> 1995.659 | U20: Щепа (с определенной влажностью) | V20: кг | W20: 81 | X20: ТР, Разд. 3.2. и Табл. 2
U21: Масса смеси до сушки (за 1 цикл) | V21: кг | W21: =W15+W19+W20 -> 231.5
U22: Масса компонентов в 10 готовых сухих арболитовых блоков (за 1 цикл)
B23: Масса груза перевозимым транспортным средством типа f в проектном сценарии | U23: Цемент | V23: кг | W23: =W19 -> 100
A24: j1 | B24: Щепа древесная | C24: т | D24: =D10 -> 1360.59 | E24: =E10 -> 1405.25 | F24: =F10 -> 1686.3 | G24: =G10 -> 1686.3 | H24: =H10 -> 1686.3 | I24: =I10 -> 1686.3 | J24: =J10 -> 1686.3 | K24: =K10 -> 1686.3 | ... R24: =R10 -> 1686.3 | U24: Al2(SO4)2 | V24: кг | W24: =W18 -> 3
A25: j2 | B25: Цемент | C25: т | D25: =D11 -> 1767 | E25: =E11 -> 1825 | F25: =F11 -> 2190 | G25: =G11 -> 2190 | H25: =H11 -> 2190 | I25: =I11 -> 2190 | J25: =J11 -> 2190 | K25: =K11 -> 2190 | ... R25: =R11 -> 2190 | U25: Щепа (сухая) | V25: кг | W25: =W8-W23-W24 -> 77
A26: j3 | B26: Сульфат алюминия | C26: т | D26: =D12 -> 53.01 | E26: =E12 -> 54.75 | F26: =F12 -> 65.7 | G26: =G12 -> 65.7 | H26: =H12 -> 65.7 | I26: =I12 -> 65.7 | J26: =J12 -> 65.7 | K26: =K12 -> 65.7 | ... R26: =R12 -> 65.7 | U26: Массовая концентрация компонентов в 1 арболитовом блоке марки D600
B27: ` | U27: Цемент | V27: д.ед. | W27: =W23/$W$8 -> 0.55555556
A28: j1 | B28: Щепа древесная | C28: км | D28: =145*2 -> 290 | E28: =145*2 -> 290 | F28: =145*2 -> 290 | G28: =145*2 -> 290 | H28: =145*2 -> 290 | I28: =145*2 -> 290 | J28: =145*2 -> 290 | K28: =145*2 -> 290 | ... R28: =145*2 -> 290 | U28: Al2(SO4)2 | V28: д.ед. | W28: =W24/$W$8 -> 0.016666667
A29: j2 | B29: Цемент | C29: км | D29: =440*2 -> 880 | E29: =440*2 -> 880 | F29: =440*2 -> 880 | G29: =440*2 -> 880 | H29: =440*2 -> 880 | I29: =440*2 -> 880 | J29: =440*2 -> 880 | K29: =440*2 -> 880 | ... R29: =440*2 -> 880 | U29: Щепа (сухая) | V29: д.ед. | W29: =W25/$W$8 -> 0.42777778
A30: j3 | B30: Сульфат алюминия | C30: км | D30: =330*2 -> 660 | E30: =330*2 -> 660 | F30: =330*2 -> 660 | G30: =330*2 -> 660 | H30: =330*2 -> 660 | I30: =330*2 -> 660 | J30: =330*2 -> 660 | K30: =330*2 -> 660 | ... R30: =330*2 -> 660 | U30: * Принята плотность воды 1000 кг/м3 при стандартных условиях
B32: Транспортное средство, используемое для перевозки материалов до площадки производства
A33: f | B33: Heavy vehicles
B34: коэффициент выбросов CO2 для соответствующего вида транспорта f | C34: г CO2/т·км | D34: 129 | E34: 129 | F34: 129 | G34: 129 | H34: 129 | I34: 129 | J34: 129 | K34: 129 | L34: 129 | M34: 129 | N34: 129 | O34: 129 | P34: 129 | Q34: 129 | R34: 129
B35: Выбросы от транспортировки при помощи транспортного средства f в проектном сценарии в год y | C35: т CO2/год | D35: =((D24*D28*D34)+(D25*D29*D34)+(D26*D30*D34))/10^6 -> 256.00278 | E35: =((E24*E28*E34)+(E25*E29*E34)+(E26*E30*E34))/10^6 -> 264.40582 | F35: =((F24*F28*F34)+(F25*F29*F34)+(F26*F30*F34))/10^6 -> 317.28698 | G35: =((G24*G28*G34)+(G25*G29*G34)+(G26*G30*G34))/10^6 -> 317.28698 | H35: =((H24*H28*H34)+(H25*H29*H34)+(H26*H30*H34))/10^6 -> 317.28698 | I35: =((I24*I28*I34)+(I25*I29*I34)+(I26*I30*I34))/10^6 -> 317.28698 | J35: =((J24*J28*J34)+(J25*J29*J34)+(J26*J30*J34))/10^6 -> 317.28698 | K35: =((K24*K28*K34)+(K25*K29*K34)+(K26*K30*K34))/10^6 -> 317.28698 | ... R35: =((R24*R28*R34)+(R25*R29*R34)+(R26*R30*R34))/10^6 -> 317.28698
B37: Удельный расход на 1 м3 арболитового блока | C37: кВт⋅ч/м3 | D37: 14.95 | E37: 14.95 | F37: 14.95 | G37: 14.95 | H37: 14.95 | I37: 14.95 | J37: 14.95 | K37: 14.95 | L37: 14.95 | M37: 14.95 | N37: 14.95 | O37: 14.95 | P37: 14.95 | Q37: 14.95 | R37: 14.95
B38: Потребление электроэнергии на площадке из сети в отчетном году y в проектном сценарии | C38: МВт·ч | D38: =(D37*D2)*0.001 -> 79.24995 | E38: =(E37*E2)*0.001 -> 81.85125 | F38: =(F37*F2)*0.001 -> 98.2215 | G38: =(G37*G2)*0.001 -> 98.2215 | H38: =(H37*H2)*0.001 -> 98.2215 | I38: =(I37*I2)*0.001 -> 98.2215 | J38: =(J37*J2)*0.001 -> 98.2215 | K38: =(K37*K2)*0.001 -> 98.2215 | ... R38: =(R37*R2)*0.001 -> 98.2215
B39: Сетевой коэффициент выбросов | C39: кг CO2/МВт·ч | D39: =BE_materials!D12 -> 332.5 | E39: =BE_materials!E12 -> 335.6 | F39: =BE_materials!F12 -> 334.05 | G39: =BE_materials!G12 -> 334.05 | H39: =BE_materials!H12 -> 334.05 | I39: =BE_materials!I12 -> 334.05 | J39: =BE_materials!J12 -> 334.05 | K39: =BE_materials!K12 -> 334.05 | ... R39: =BE_materials!R12 -> 334.05
B40: Выбросы от потребления покупной электроэнергии из сети в год | C40: т CO2/год | D40: =D38*D39*0.001 -> 26.350608 | E40: =E38*E39*0.001 -> 27.46928 | F40: =F38*F39*0.001 -> 32.810892 | G40: =G38*G39*0.001 -> 32.810892 | H40: =H38*H39*0.001 -> 32.810892 | I40: =I38*I39*0.001 -> 32.810892 | J40: =J38*J39*0.001 -> 32.810892 | K40: =K38*K39*0.001 -> 32.810892 | ... R40: =R38*R39*0.001 -> 32.810892
B42: Выбросы в год y по проектном сценарии | C42: т CO2/год | D42: =D40+D35+D20 -> 1892.1263 | E42: =E40+E35+E20 -> 1955.3613 | F42: =F40+F35+F20 -> 2345.7569 | G42: =G40+G35+G20 -> 2345.7569 | H42: =H40+H35+H20 -> 2345.7569 | I42: =I40+I35+I20 -> 2345.7569 | J42: =J40+J35+J20 -> 2345.7569 | K42: =K40+K35+K20 -> 2345.7569 | ... R42: =R40+R35+R20 -> 2345.7569

Sheet Результат
C1: y Ед. изм. | D1: 2024 | E1: =D1+1 -> 2025 | F1: =E1+1 -> 2026 | G1: =F1+1 -> 2027 | H1: =G1+1 -> 2028 | I1: =H1+1 -> 2029 | J1: =I1+1 -> 2030 | K1: =J1+1 -> 2031 | L1: =K1+1 -> 2032 | ... R1: =Q1+1 -> 2038 | S1: Итого
B2: Нетто-выбросы в год y по базовой линии от складирования щепы древесной | C2: т CO2/год | D2: ='BE_chippedwood,y'!C6 -> -2227.2175 | E2: ='BE_chippedwood,y'!D6-'BE_chippedwood,y'!C6 -> -1840.8499 | F2: ='BE_chippedwood,y'!E6-'BE_chippedwood,y'!D6 -> -1921.1482 | G2: ='BE_chippedwood,y'!F6-'BE_chippedwood,y'!E6 -> -1524.8164 | H2: ='BE_chippedwood,y'!G6-'BE_chippedwood,y'!F6 -> -1210.2475 | I2: ='BE_chippedwood,y'!H6-'BE_chippedwood,y'!G6 -> -960.57411 | J2: ='BE_chippedwood,y'!I6-'BE_chippedwood,y'!H6 -> -762.40818 | K2: ='BE_chippedwood,y'!J6-'BE_chippedwood,y'!I6 -> -605.12377 | L2: ='BE_chippedwood,y'!K6-'BE_chippedwood,y'!J6 -> -480.28706 | ... R2: ='BE_chippedwood,y'!Q6-'BE_chippedwood,y'!P6 -> -120.07176 | S2: =SUM(D2:R2) -> -12918.537
B3: Выбросы (потери) от складирования щепы древесной в базовой линии в год y | C3: т CO2/год | D3: =D2+'BE_chippedwood,y'!C4*44/12 -> 267.19753 | E3: =E2+'BE_chippedwood,y'!D4*44/12 -> 735.44182 | F3: =F2+'BE_chippedwood,y'!E4*44/12 -> 1170.4018 | G3: =G2+'BE_chippedwood,y'!F4*44/12 -> 1566.7336 | H3: =H2+'BE_chippedwood,y'!G4*44/12 -> 1881.3025 | I3: =I2+'BE_chippedwood,y'!H4*44/12 -> 2130.9759 | J3: =J2+'BE_chippedwood,y'!I4*44/12 -> 2329.1418 | K3: =K2+'BE_chippedwood,y'!J4*44/12 -> 2486.4262 | ... R3: =R2+'BE_chippedwood,y'!Q4*44/12 -> 2971.4782 | S3: =SUM(D3:R3) -> 32342.32
B4: Накопление углерода к концу года y в щепе древесной | C4: т CO2/год | D4: =D2-D3 -> -2494.415 | E4: =E2-E3 -> -2576.2917 | F4: =F2-F3 -> -3091.55 | G4: =G2-G3 -> -3091.55 | H4: =H2-H3 -> -3091.55 | I4: =I2-I3 -> -3091.55 | J4: =J2-J3 -> -3091.55 | K4: =K2-K3 -> -3091.55 | ... R4: =R2-R3 -> -3091.55 | S4: =SUM(D4:R4) -> -45260.857
B5: Выбросы в год y по базовой линии материалов, выполняющих ту же функцию, что и продукция проекта | C5: т CO2/год | D5: =BE_materials!D49 -> 2132.9037 | E5: =BE_materials!E49 -> 2206.8946 | F5: =BE_materials!F49 -> 2645.8852 | G5: =BE_materials!G49 -> 2645.8852 | H5: =BE_materials!H49 -> 2645.8852 | I5: =BE_materials!I49 -> 2645.8852 | J5: =BE_materials!J49 -> 2645.8852 | K5: =BE_materials!K49 -> 2645.8852 | ... R5: =BE_materials!R49 -> 2645.8852 | S5: =SUM(D5:R5) -> 38736.306
B6: Базовые нетто-выбросы в год y | C6: т CO2/год | D6: =D2+D5 -> -94.313808 | E6: =E2+E5 -> 366.04476 | F6: =F2+F5 -> 724.73699 | G6: =G2+G5 -> 1121.0689 | H6: =H2+H5 -> 1435.6377 | I6: =I2+I5 -> 1685.3111 | J6: =J2+J5 -> 1883.477 | K6: =K2+K5 -> 2040.7614 | ... R6: =R2+R5 -> 2525.8134 | S6: =SUM(D6:R6) -> 25817.769
B8: Хранение углерода в пуле щепы древесной в год y (суммарно) в проектном сценарии | C8: т CO2/год | D8: ='PE_chippedwood,y'!C6 -> -2494.415 | E8: ='PE_chippedwood,y'!D6-'PE_chippedwood,y'!C6 -> -2576.2917 | F8: ='PE_chippedwood,y'!E6-'PE_chippedwood,y'!D6 -> -3091.55 | G8: ='PE_chippedwood,y'!F6-'PE_chippedwood,y'!E6 -> -3091.55 | H8: ='PE_chippedwood,y'!G6-'PE_chippedwood,y'!F6 -> -3091.55 | I8: ='PE_chippedwood,y'!H6-'PE_chippedwood,y'!G6 -> -3091.55 | J8: ='PE_chippedwood,y'!I6-'PE_chippedwood,y'!H6 -> -3091.55 | K8: ='PE_chippedwood,y'!J6-'PE_chippedwood,y'!I6 -> -3091.55 | L8: ='PE_chippedwood,y'!K6-'PE_chippedwood,y'!J6 -> -3091.55 | ... R8: ='PE_chippedwood,y'!Q6-'PE_chippedwood,y'!P6 -> -3091.55 | S8: =SUM(D8:R8) -> -45260.857
B9: Выбросы от производства строительных материалов в проектном сценарии в год y | C9: т CO2/год | D9: =PE_materials!D42 -> 1892.1263 | E9: =PE_materials!E42 -> 1955.3613 | F9: =PE_materials!F42 -> 2345.7569 | G9: =PE_materials!G42 -> 2345.7569 | H9: =PE_materials!H42 -> 2345.7569 | I9: =PE_materials!I42 -> 2345.7569 | J9: =PE_materials!J42 -> 2345.7569 | K9: =PE_materials!K42 -> 2345.7569 | ... R9: =PE_materials!R42 -> 2345.7569 | S9: =SUM(D9:R9) -> 34342.327
B10: Проектные нетто-выбросы в год y | C10: т CO2/год | D10: =D8+D9 -> -602.2887 | E10: =E8+E9 -> -620.93032 | F10: =F8+F9 -> -745.79312 | G10: =G8+G9 -> -745.79312 | H10: =H8+H9 -> -745.79312 | I10: =I8+I9 -> -745.79312 | J10: =J8+J9 -> -745.79312 | K10: =K8+K9 -> -745.79312 | ... R10: =R8+R9 -> -745.79312 | S10: =SUM(D10:R10) -> -10918.53
B12: Увеличение поглощения в течение года y | C12: т CO2/год | D12: =D6-D10 -> 507.97489 | E12: =E6-E10 -> 986.97508 | F12: =F6-F10 -> 1470.5301 | G12: =G6-G10 -> 1866.862 | H12: =H6-H10 -> 2181.4308 | I12: =I6-I10 -> 2431.1042 | J12: =J6-J10 -> 2629.2702 | K12: =K6-K10 -> 2786.5546 | ... R12: =R6-R10 -> 3271.6066 | S12: =SUM(D12:R12) -> 36736.299

Sheet Табл. З.1. ПТД
A2: № | B2: Период | C2: Выбросы ПГ по базовой линии, т CO2 | D2: Выбросы ПГ по проектному сценарию, т CO2 | E2: Сокращение выбросов ПГ, т CO2 | H2: № | I2: Период | J2: Выбросы ПГ по базовой линии, т CO2 | K2: Выбросы ПГ по проектному сценарию, т CO2 | L2: Сокращение выбросов ПГ, т CO2
A3: 1 | B3: {=TRANSPOSE(Результат!$D$1:$R$1)} -> 2024 | C3: {=TRANSPOSE(Результат!$D$6:$R$6)} -> -94.313808 | D3: {=TRANSPOSE(Результат!$D$10:$R$10)} -> -602.2887 | E3: =C3-D3 -> 507.97489 | H3: 1 | I3: {=TRANSPOSE(Результат!$D$1:$R$1)} -> 2024 | J3: =ROUNDDOWN(C3,0) -> -94 | K3: =ROUNDDOWN(D3,0) -> -602 | L3: =J3-K3 -> 508
A4: 2 | B4: 2025 | C4: 366.04476 | D4: -620.93032 | E4: =C4-D4 -> 986.97508 | H4: 2 | I4: 2025 | J4: =ROUNDDOWN(C4,0) -> 366 | K4: =ROUNDDOWN(D4,0) -> -620 | L4: =J4-K4 -> 986
A5: 3 | B5: 2026 | C5: 724.73699 | D5: -745.79312 | E5: =C5-D5 -> 1470.5301 | H5: 3 | I5: 2026 | J5: =ROUNDDOWN(C5,0) -> 724 | K5: =ROUNDDOWN(D5,0) -> -745 | L5: =J5-K5 -> 1469
A6: 4 | B6: 2027 | C6: 1121.0689 | D6: -745.79312 | E6: =C6-D6 -> 1866.862 | H6: 4 | I6: 2027 | J6: =ROUNDDOWN(C6,0) -> 1121 | K6: =ROUNDDOWN(D6,0) -> -745 | L6: =J6-K6 -> 1866
A7: 5 | B7: 2028 | C7: 1435.6377 | D7: -745.79312 | E7: =C7-D7 -> 2181.4308 | H7: 5 | I7: 2028 | J7: =ROUNDDOWN(C7,0) -> 1435 | K7: =ROUNDDOWN(D7,0) -> -745 | L7: =J7-K7 -> 2180
A8: 6 | B8: 2029 | C8: 1685.3111 | D8: -745.79312 | E8: =C8-D8 -> 2431.1042 | H8: 6 | I8: 2029 | J8: =ROUNDDOWN(C8,0) -> 1685 | K8: =ROUNDDOWN(D8,0) -> -745 | L8: =J8-K8 -> 2430
A9: 7 | B9: 2030 | C9: 1883.477 | D9: -745.79312 | E9: =C9-D9 -> 2629.2702 | H9: 7 | I9: 2030 | J9: =ROUNDDOWN(C9,0) -> 1883 | K9: =ROUNDDOWN(D9,0) -> -745 | L9: =J9-K9 -> 2628
A10: 8 | B10: 2031 | C10: 2040.7614 | D10: -745.79312 | E10: =C10-D10 -> 2786.5546 | H10: 8 | I10: 2031 | J10: =ROUNDDOWN(C10,0) -> 2040 | K10: =ROUNDDOWN(D10,0) -> -745 | L10: =J10-K10 -> 2785
A11: 9 | B11: 2032 | C11: 2165.5982 | D11: -745.79312 | E11: =C11-D11 -> 2911.3913 | H11: 9 | I11: 2032 | J11: =ROUNDDOWN(C11,0) -> 2165 | K11: =ROUNDDOWN(D11,0) -> -745 | L11: =J11-K11 -> 2910
A12: 10 | B12: 2033 | C12: 2264.6811 | D12: -745.79312 | E12: =C12-D12 -> 3010.4742 | H12: 10 | I12: 2033 | J12: =ROUNDDOWN(C12,0) -> 2264 | K12: =ROUNDDOWN(D12,0) -> -745 | L12: =J12-K12 -> 3009
A13: 11 | B13: 2034 | C13: 2343.3233 | D13: -745.79312 | E13: =C13-D13 -> 3089.1164 | H13: 11 | I13: 2034 | J13: =ROUNDDOWN(C13,0) -> 2343 | K13: =ROUNDDOWN(D13,0) -> -745 | L13: =J13-K13 -> 3088
A14: 12 | B14: 2035 | C14: 2405.7417 | D14: -745.79312 | E14: =C14-D14 -> 3151.5348 | H14: 12 | I14: 2035 | J14: =ROUNDDOWN(C14,0) -> 2405 | K14: =ROUNDDOWN(D14,0) -> -745 | L14: =J14-K14 -> 3150
A15: 13 | B15: 2036 | C15: 2455.2832 | D15: -745.79312 | E15: =C15-D15 -> 3201.0763 | H15: 13 | I15: 2036 | J15: =ROUNDDOWN(C15,0) -> 2455 | K15: =ROUNDDOWN(D15,0) -> -745 | L15: =J15-K15 -> 3200
... A17: 15 | B17: 2038 | C17: 2525.8134 | D17: -745.79312 | E17: =C17-D17 -> 3271.6066 | H17: 15 | I17: 2038 | J17: =ROUNDDOWN(C17,0) -> 2525 | K17: =ROUNDDOWN(D17,0) -> -745 | L17: =J17-K17 -> 3270
A18: Итого | B18: - | C18: =SUM(_xlfn.ANCHORARRAY(C3)) -> #NAME? | D18: =SUM(_xlfn.ANCHORARRAY(D3)) -> -10918.53 | E18: =SUM(E3:E17) -> 36736.299 | H18: Итого | I18: - | J18: =SUM(J3:J17) -> 25811 | K18: =SUM(K3:K17) -> -10907 | L18: =SUM(L3:L17) -> 36718
A19: Среднее за год, т CO2 | E19: =AVERAGE(E3:E17) -> 2449.0866 | H19: Среднее за год, т CO2 | L19: =ROUNDDOWN(L18/15,0) -> 2447

Sheet Захоронение в полигоне (баз)
A2: Механизм "Удаление"
A5: Года | B5: Количество, Wj,x (т) (при 0% АТ) | C5: =2023 -> 2023 | D5: =+C5+1 -> 2024 | E5: =+D5+1 -> 2025 | F5: =+E5+1 -> 2026 | G5: =+F5+1 -> 2027 | H5: =+G5+1 -> 2028 | I5: =+H5+1 -> 2029 | J5: =+I5+1 -> 2030 | K5: =+J5+1 -> 2031 | ... R5: =+Q5+1 -> 2038 | S5: Total | U5: Variable | V5: Name | W5: Default value
A6: 2023 | B6: 1652.3536 | C6: =$W$6*(1-$W$7)*$W$8*(1-$W$9)*(16/12)*$W$10*$W$11*$W$17*($B6*$W$18*EXP(-$W$19*(C$5-$A6))*(1-EXP(-$W$19))) -> 177.82569 | D6: =$W$6*(1-$W$7)*$W$8*(1-$W$9)*(16/12)*$W$10*$W$11*$W$17*($B6*$W$18*EXP(-$W$19*(D$5-$A6))*(1-EXP(-$W$19))) -> 172.57015 | E6: =$W$6*(1-$W$7)*$W$8*(1-$W$9)*(16/12)*$W$10*$W$11*$W$17*($B6*$W$18*EXP(-$W$19*(E$5-$A6))*(1-EXP(-$W$19))) -> 167.46993 | F6: =$W$6*(1-$W$7)*$W$8*(1-$W$9)*(16/12)*$W$10*$W$11*$W$17*($B6*$W$18*EXP(-$W$19*(F$5-$A6))*(1-EXP(-$W$19))) -> 162.52044 | G6: =$W$6*(1-$W$7)*$W$8*(1-$W$9)*(16/12)*$W$10*$W$11*$W$17*($B6*$W$18*EXP(-$W$19*(G$5-$A6))*(1-EXP(-$W$19))) -> 157.71724 | H6: =$W$6*(1-$W$7)*$W$8*(1-$W$9)*(16/12)*$W$10*$W$11*$W$17*($B6*$W$18*EXP(-$W$19*(H$5-$A6))*(1-EXP(-$W$19))) -> 153.05599 | I6: =$W$6*(1-$W$7)*$W$8*(1-$W$9)*(16/12)*$W$10*$W$11*$W$17*($B6*$W$18*EXP(-$W$19*(I$5-$A6))*(1-EXP(-$W$19))) -> 148.5325 | J6: =$W$6*(1-$W$7)*$W$8*(1-$W$9)*(16/12)*$W$10*$W$11*$W$17*($B6*$W$18*EXP(-$W$19*(J$5-$A6))*(1-EXP(-$W$19))) -> 144.1427 | ... R6: =$W$6*(1-$W$7)*$W$8*(1-$W$9)*(16/12)*$W$10*$W$11*$W$17*($B6*$W$18*EXP(-$W$19*(R$5-$A6))*(1-EXP(-$W$19))) -> 113.38667 | U6: φ | V6: Поправочный коэффициент модели для учета неопределённости за год, y | W6: 0.85
A7: =A6+1 -> 2024 | B7: 1652.3536 | D7: =$W$6*(1-$W$7)*$W$8*(1-$W$9)*(16/12)*$W$10*$W$11*$W$17*($B7*$W$18*EXP(-$W$19*(D$5-$A7))*(1-EXP(-$W$19))) -> 177.82569 | E7: =$W$6*(1-$W$7)*$W$8*(1-$W$9)*(16/12)*$W$10*$W$11*$W$17*($B7*$W$18*EXP(-$W$19*(E$5-$A7))*(1-EXP(-$W$19))) -> 172.57015 | F7: =$W$6*(1-$W$7)*$W$8*(1-$W$9)*(16/12)*$W$10*$W$11*$W$17*($B7*$W$18*EXP(-$W$19*(F$5-$A7))*(1-EXP(-$W$19))) -> 167.46993 | G7: =$W$6*(1-$W$7)*$W$8*(1-$W$9)*(16/12)*$W$10*$W$11*$W$17*($B7*$W$18*EXP(-$W$19*(G$5-$A7))*(1-EXP(-$W$19))) -> 162.52044 | H7: =$W$6*(1-$W$7)*$W$8*(1-$W$9)*(16/12)*$W$10*$W$11*$W$17*($B7*$W$18*EXP(-$W$19*(H$5-$A7))*(1-EXP(-$W$19))) -> 157.71724 | I7: =$W$6*(1-$W$7)*$W$8*(1-$W$9)*(16/12)*$W$10*$W$11*$W$17*($B7*$W$18*EXP(-$W$19*(I$5-$A7))*(1-EXP(-$W$19))) -> 153.05599 | J7: =$W$6*(1-$W$7)*$W$8*(1-$W$9)*(16/12)*$W$10*$W$11*$W$17*($B7*$W$18*EXP(-$W$19*(J$5-$A7))*(1-EXP(-$W$19))) -> 148.5325 | K7: =$W$6*(1-$W$7)*$W$8*(1-$W$9)*(16/12)*$W$10*$W$11*$W$17*($B7*$W$18*EXP(-$W$19*(K$5-$A7))*(1-EXP(-$W$19))) -> 144.1427 | ... R7: =$W$6*(1-$W$7)*$W$8*(1-$W$9)*(16/12)*$W$10*$W$11*$W$17*($B7*$W$18*EXP(-$W$19*(R$5-$A7))*(1-EXP(-$W$19))) -> 116.8398 | U7: f | V7: Фракция метана, улавливаемая на свалке | W7: 0
